BEGIN:VCALENDAR
VERSION:2.0
PRODID:spatie/icalendar-generator
DESCRIPTION:Events from Vermijo Community Garden
X-WR-CALDESC:Events from Vermijo Community Garden
REFRESH-INTERVAL;VALUE=DURATION:PT1440M
X-PUBLISHED-TTL:PT1440M
BEGIN:VTIMEZONE
TZID:America/Denver
BEGIN:STANDARD
DTSTART:20251102T020000Z
TZOFFSETFROM:-0600
TZOFFSETTO:-0700
END:STANDARD
BEGIN:DAYLIGHT
DTSTART:20260308T020000Z
TZOFFSETFROM:-0700
TZOFFSETTO:-0600
END:DAYLIGHT
BEGIN:STANDARD
DTSTART:20261101T020000Z
TZOFFSETFROM:-0600
TZOFFSETTO:-0700
END:STANDARD
END:VTIMEZONE
BEGIN:VTIMEZONE
TZID:UTC
BEGIN:STANDARD
DTSTART:20250725T125048Z
TZOFFSETFROM:+0000
TZOFFSETTO:+0000
END:STANDARD
END:VTIMEZONE
BEGIN:VEVENT
UID:13-7
DTSTAMP:20260421T125048Z
SUMMARY:Volunteer Day
LOCATION:Vermijo Community Garden
ORGANIZER;CN=Kristie Taylor:MAILTO:vermijogarden@gmail.com
DTSTART;TZID=America/Denver:20260627T080000
DTEND;TZID=America/Denver:20260627T110000
X-ALT-DESC;FMTTYPE=TEXT/HTML:Bring your gloves and a water bottle. We're te
 nding to the land today!
CATEGORIES:In the garden
URL;VALUE=URI:https://www.vermijocommunitygarden.earth/mc-events/volunteer-
 day-2/
METHOD:PUBLISH
END:VEVENT
END:VCALENDAR