BEGIN:VCALENDAR
VERSION:2.0
PRODID:spatie/icalendar-generator
DESCRIPTION:Events from Vermijo Community Garden
X-WR-CALDESC:Events from Vermijo Community Garden
REFRESH-INTERVAL;VALUE=DURATION:PT1440M
X-PUBLISHED-TTL:PT1440M
BEGIN:VTIMEZONE
TZID:America/Denver
BEGIN:STANDARD
DTSTART:20251102T020000Z
TZOFFSETFROM:-0600
TZOFFSETTO:-0700
END:STANDARD
BEGIN:DAYLIGHT
DTSTART:20260308T020000Z
TZOFFSETFROM:-0700
TZOFFSETTO:-0600
END:DAYLIGHT
END:VTIMEZONE
BEGIN:VTIMEZONE
TZID:UTC
BEGIN:STANDARD
DTSTART:20250725T102122Z
TZOFFSETFROM:+0000
TZOFFSETTO:+0000
END:STANDARD
END:VTIMEZONE
BEGIN:VEVENT
UID:5-4
DTSTAMP:20260421T102122Z
SUMMARY:EARTH DAY with USAA
LOCATION:Vermijo Community Garden
ORGANIZER;CN=Kristie Taylor:MAILTO:vermijogarden@gmail.com
DTSTART;TZID=America/Denver:20260425T090000
DTEND;TZID=America/Denver:20260425T120000
X-ALT-DESC;FMTTYPE=TEXT/HTML:Adopt-A-Waterway recognition with USAA\, Wests
 ide Cares and OCC Trash Fairies. A public\, volunteer event from 9-12pm. W
 e will be laying mulch\, setting up the hoop house and cleaning the waterw
 ay. Oh and visiting with the Mayor! Join us for donuts\, coffee and hands 
 in dirt.
CATEGORIES:In the garden
URL;VALUE=URI:https://www.vermijocommunitygarden.earth/mc-events/earth-day-
 with-usaa/
METHOD:PUBLISH
END:VEVENT
END:VCALENDAR