BEGIN:VCALENDAR
VERSION:2.0
PRODID:spatie/icalendar-generator
DESCRIPTION:Events from Vermijo Community Garden
X-WR-CALDESC:Events from Vermijo Community Garden
REFRESH-INTERVAL;VALUE=DURATION:PT1440M
X-PUBLISHED-TTL:PT1440M
BEGIN:VTIMEZONE
TZID:America/Denver
BEGIN:STANDARD
DTSTART:20251102T020000Z
TZOFFSETFROM:-0600
TZOFFSETTO:-0700
END:STANDARD
BEGIN:DAYLIGHT
DTSTART:20260308T020000Z
TZOFFSETFROM:-0700
TZOFFSETTO:-0600
END:DAYLIGHT
END:VTIMEZONE
BEGIN:VTIMEZONE
TZID:UTC
BEGIN:STANDARD
DTSTART:20250725T100408Z
TZOFFSETFROM:+0000
TZOFFSETTO:+0000
END:STANDARD
END:VTIMEZONE
BEGIN:VEVENT
UID:6-5
DTSTAMP:20260421T100408Z
SUMMARY:Member Potluck
LOCATION:Vermijo Community Garden
ORGANIZER;CN=Kristie Taylor:MAILTO:vermijogarden@gmail.com
RRULE:FREQ=MONTHLY;BYDAY=4MO;UNTIL=20261026T000000Z
DTSTART;TZID=America/Denver:20260427T183000
DTEND;TZID=America/Denver:20260427T193000
X-ALT-DESC;FMTTYPE=TEXT/HTML:Our monthly potluck is at 6:30pm. Please bring
  a dish. We will discuss the month ahead and harvest.
CATEGORIES:In the garden,  Potlucks
URL;VALUE=URI:https://www.vermijocommunitygarden.earth/mc-events/member-pot
 luck/?mc_id=6
METHOD:PUBLISH
END:VEVENT
END:VCALENDAR