BEGIN:VCALENDAR
VERSION:2.0
PRODID:spatie/icalendar-generator
DESCRIPTION:Events from Vermijo Community Garden
X-WR-CALDESC:Events from Vermijo Community Garden
REFRESH-INTERVAL;VALUE=DURATION:PT1440M
X-PUBLISHED-TTL:PT1440M
BEGIN:VTIMEZONE
TZID:America/Denver
BEGIN:STANDARD
DTSTART:20251102T020000Z
TZOFFSETFROM:-0600
TZOFFSETTO:-0700
END:STANDARD
BEGIN:DAYLIGHT
DTSTART:20260308T020000Z
TZOFFSETFROM:-0700
TZOFFSETTO:-0600
END:DAYLIGHT
END:VTIMEZONE
BEGIN:VTIMEZONE
TZID:UTC
BEGIN:STANDARD
DTSTART:20250725T102322Z
TZOFFSETFROM:+0000
TZOFFSETTO:+0000
END:STANDARD
END:VTIMEZONE
BEGIN:VEVENT
UID:14-8
DTSTAMP:20260421T102322Z
SUMMARY:We're Planting ONIONS
LOCATION:Vermijo Community Garden
ORGANIZER;CN=Kristie Taylor:MAILTO:vermijogarden@gmail.com
DTSTART;TZID=America/Denver:20260426T100000
DTEND;TZID=America/Denver:20260426T120000
X-ALT-DESC;FMTTYPE=TEXT/HTML:We're planting onions today! Bring some gloves
  and a water bottle.
CATEGORIES:In the garden
URL;VALUE=URI:https://www.vermijocommunitygarden.earth/mc-events/were-plant
 ing-onions/
METHOD:PUBLISH
END:VEVENT
END:VCALENDAR